BEGIN:VCALENDAR
VERSION:2.0
PRODID:icalendar-ruby
CALSCALE:GREGORIAN
METHOD:PUBLISH
BEGIN:VEVENT
DTSTAMP:20260422T111242Z
UID:16-363046@therivernorco.com
DTSTART:20261004T160000Z
DTEND:20261004T170000Z
CLASS:PUBLIC
CREATED:20260421T183444
DESCRIPTION:Sunday Service-English
LAST-MODIFIED:20260421T183444
LOCATION:1111 6th St Norco\, Ca 92680
SUMMARY:Sunday Service-English
URL;VALUE=URI:https://www.therivernorco.com/events/sunday-service-english/2
 026-10-04
END:VEVENT
END:VCALENDAR
