BEGIN:VCALENDAR
VERSION:2.0
PRODID:icalendar-ruby
CALSCALE:GREGORIAN
METHOD:PUBLISH
BEGIN:VEVENT
DTSTAMP:20260420T230926Z
UID:14-361273@therivernorco.com
DTSTART:20261101T193000Z
DTEND:20261101T203000Z
CLASS:PUBLIC
CREATED:20260420T154429
DESCRIPTION:Servicio Español
LAST-MODIFIED:20260420T154429
LOCATION:1111 6th St Norco\, Ca 92680
SUMMARY:Servicio Español
URL;VALUE=URI:https://www.therivernorco.com/events/servicio-espanol/2026-11
 -01
END:VEVENT
END:VCALENDAR
