BEGIN:VCALENDAR
VERSION:2.0
PRODID:icalendar-ruby
CALSCALE:GREGORIAN
METHOD:PUBLISH
BEGIN:VEVENT
DTSTAMP:20260420T214257Z
UID:14-361026@therivernorco.com
DTSTART:20261025T183000Z
DTEND:20261025T193000Z
CLASS:PUBLIC
CREATED:20260420T130901
DESCRIPTION:Servicio Español
LAST-MODIFIED:20260420T130901
LOCATION:1111 6th St Norco\, Ca 92680
SUMMARY:Servicio Español
URL;VALUE=URI:https://www.therivernorco.com/events/servicio-espanol/2026-10
 -25
END:VEVENT
END:VCALENDAR
