BEGIN:VCALENDAR
VERSION:2.0
PRODID:icalendar-ruby
CALSCALE:GREGORIAN
METHOD:PUBLISH
BEGIN:VEVENT
DTSTAMP:20260420T171255Z
UID:14-360531@therivernorco.com
DTSTART:20261004T183000Z
DTEND:20261004T193000Z
CLASS:PUBLIC
CREATED:20260420T075929
DESCRIPTION:Servicio Español
LAST-MODIFIED:20260420T075929
LOCATION:1111 6th St Norco\, Ca 92680
SUMMARY:Servicio Español
URL;VALUE=URI:https://www.therivernorco.com/events/servicio-espanol/2026-10
 -04
END:VEVENT
END:VCALENDAR
