BEGIN:VCALENDAR
VERSION:2.0
PRODID:icalendar-ruby
CALSCALE:GREGORIAN
METHOD:PUBLISH
BEGIN:VEVENT
DTSTAMP:20260420T154124Z
UID:14-360530@therivernorco.com
DTSTART:20260927T183000Z
DTEND:20260927T193000Z
CLASS:PUBLIC
CREATED:20260420T075929
DESCRIPTION:Servicio Español
LAST-MODIFIED:20260420T075929
LOCATION:1111 6th St Norco\, Ca 92680
SUMMARY:Servicio Español
URL;VALUE=URI:https://www.therivernorco.com/events/servicio-espanol/2026-09
 -27
END:VEVENT
END:VCALENDAR
