BEGIN:VCALENDAR
VERSION:2.0
PRODID:icalendar-ruby
CALSCALE:GREGORIAN
METHOD:PUBLISH
BEGIN:VEVENT
DTSTAMP:20260422T225204Z
UID:7-363856@therivernorco.com
DTSTART:20261015T020000Z
DTEND:20261015T030000Z
CLASS:PUBLIC
CREATED:20260422T142814
DESCRIPTION:
LAST-MODIFIED:20260422T142814
LOCATION:1111 6th St\, Norco\, CA 92860 
SUMMARY:Bible Study Wednesday- English
URL;VALUE=URI:https://www.therivernorco.com/events/bible-study-wednesday-en
 glish/2026-10-14
ATTACH;FILENAME=healing-place-church-bible-study.jpg;FMTTYPE=image/jpeg:htt
 ps://dq5pwpg1q8ru0.cloudfront.net/2025/07/20/20/50/17/29453737-01ef-4707-a
 060-517064920f26/healing-place-church-bible-study.jpg
END:VEVENT
END:VCALENDAR
